BEGIN:VCALENDAR
VERSION:2.0
PRODID:-//Swansboro Rotary Club - ECPv6.15.20//NONSGML v1.0//EN
CALSCALE:GREGORIAN
METHOD:PUBLISH
X-WR-CALNAME:Swansboro Rotary Club
X-ORIGINAL-URL:https://www.swansbororotaryclub.com
X-WR-CALDESC:Events for Swansboro Rotary Club
REFRESH-INTERVAL;VALUE=DURATION:PT1H
X-Robots-Tag:noindex
X-PUBLISHED-TTL:PT1H
BEGIN:VTIMEZONE
TZID:America/New_York
BEGIN:DAYLIGHT
TZOFFSETFROM:-0500
TZOFFSETTO:-0400
TZNAME:EDT
DTSTART:20240310T070000
END:DAYLIGHT
BEGIN:STANDARD
TZOFFSETFROM:-0400
TZOFFSETTO:-0500
TZNAME:EST
DTSTART:20241103T060000
END:STANDARD
BEGIN:DAYLIGHT
TZOFFSETFROM:-0500
TZOFFSETTO:-0400
TZNAME:EDT
DTSTART:20250309T070000
END:DAYLIGHT
BEGIN:STANDARD
TZOFFSETFROM:-0400
TZOFFSETTO:-0500
TZNAME:EST
DTSTART:20251102T060000
END:STANDARD
BEGIN:DAYLIGHT
TZOFFSETFROM:-0500
TZOFFSETTO:-0400
TZNAME:EDT
DTSTART:20260308T070000
END:DAYLIGHT
BEGIN:STANDARD
TZOFFSETFROM:-0400
TZOFFSETTO:-0500
TZNAME:EST
DTSTART:20261101T060000
END:STANDARD
END:VTIMEZONE
BEGIN:VEVENT
DTSTART;TZID=America/New_York:20250710T130000
DTEND;TZID=America/New_York:20250710T140000
DTSTAMP:20260420T010154
CREATED:20250606T221038Z
LAST-MODIFIED:20250606T221038Z
UID:392-1752152400-1752156000@www.swansbororotaryclub.com
SUMMARY:Rotary Club Meeting
DESCRIPTION:Mike Arnold is going to present the website
URL:https://www.swansbororotaryclub.com/event/rotary-club-meeting-4/
LOCATION:Swansboro Civic Center\, 1104 Main Street Extension\, Swansboro\, NC\, 28584\, United States
ATTACH;FMTTYPE=image/png:https://www.swansbororotaryclub.com/wp-content/uploads/2025/06/Rotary_International2-removebg-preview-1.png
END:VEVENT
BEGIN:VEVENT
DTSTART;TZID=America/New_York:20250626T130000
DTEND;TZID=America/New_York:20250626T140000
DTSTAMP:20260420T010154
CREATED:20250604T150204Z
LAST-MODIFIED:20250606T213430Z
UID:200-1750942800-1750946400@www.swansbororotaryclub.com
SUMMARY:Rotary Club Meeting
DESCRIPTION:
URL:https://www.swansbororotaryclub.com/event/rotary-club-meeting-3/
LOCATION:Swansboro Civic Center\, 1104 Main Street Extension\, Swansboro\, NC\, 28584\, United States
ATTACH;FMTTYPE=image/png:https://www.swansbororotaryclub.com/wp-content/uploads/2025/06/Rotary_International2-removebg-preview-1.png
END:VEVENT
BEGIN:VEVENT
DTSTART;TZID=America/New_York:20250619T180000
DTEND;TZID=America/New_York:20250619T190000
DTSTAMP:20260420T010154
CREATED:20250604T150315Z
LAST-MODIFIED:20250604T151251Z
UID:202-1750356000-1750359600@www.swansbororotaryclub.com
SUMMARY:Monthly Rotary Board Meeting
DESCRIPTION:
URL:https://www.swansbororotaryclub.com/event/monthly-rotary-board-meeting/
LOCATION:Swansboro Civic Center\, 1104 Main Street Extension\, Swansboro\, NC\, 28584\, United States
ATTACH;FMTTYPE=image/png:https://www.swansbororotaryclub.com/wp-content/uploads/2025/06/Rotary_International2-removebg-preview-1.png
END:VEVENT
BEGIN:VEVENT
DTSTART;TZID=America/New_York:20250612T130000
DTEND;TZID=America/New_York:20250612T140000
DTSTAMP:20260420T010154
CREATED:20250604T150107Z
LAST-MODIFIED:20250606T213500Z
UID:198-1749733200-1749736800@www.swansbororotaryclub.com
SUMMARY:Rotary Club Meeting
DESCRIPTION:
URL:https://www.swansbororotaryclub.com/event/rotary-club-meeting-2/
LOCATION:Swansboro Civic Center\, 1104 Main Street Extension\, Swansboro\, NC\, 28584\, United States
ATTACH;FMTTYPE=image/png:https://www.swansbororotaryclub.com/wp-content/uploads/2025/06/Rotary_International2-removebg-preview-1.png
END:VEVENT
BEGIN:VEVENT
DTSTART;TZID=America/New_York:20250605T130000
DTEND;TZID=America/New_York:20250605T140000
DTSTAMP:20260420T010154
CREATED:20250604T145959Z
LAST-MODIFIED:20250606T213529Z
UID:196-1749128400-1749132000@www.swansbororotaryclub.com
SUMMARY:Rotary Club Meeting
DESCRIPTION:
URL:https://www.swansbororotaryclub.com/event/rotary-club-meeting/
LOCATION:Swansboro Civic Center\, 1104 Main Street Extension\, Swansboro\, NC\, 28584\, United States
ATTACH;FMTTYPE=image/png:https://www.swansbororotaryclub.com/wp-content/uploads/2025/06/Rotary_International2-removebg-preview-1.png
END:VEVENT
END:VCALENDAR